Package: parglms Version: 1.24.1 Command: /home/biocbuild/bbs-3.13-bioc/R/bin/R CMD check --install=check:parglms.install-out.txt --library=/home/biocbuild/bbs-3.13-bioc/R/library --no-vignettes --timings parglms_1.24.1.tar.gz StartedAt: 2021-10-14 10:56:01 -0400 (Thu, 14 Oct 2021) EndedAt: 2021-10-14 10:56:40 -0400 (Thu, 14 Oct 2021) EllapsedTime: 39.2 seconds RetCode: 0 Status: OK CheckDir: parglms.Rcheck Warnings: 0