Package: parglms Version: 1.24.1 Command: /Library/Frameworks/R.framework/Versions/Current/Resources/bin/R CMD check --install=check:parglms.install-out.txt --library=/Library/Frameworks/R.framework/Versions/Current/Resources/library --no-vignettes --timings parglms_1.24.1.tar.gz StartedAt: 2021-10-14 22:07:21 -0400 (Thu, 14 Oct 2021) EndedAt: 2021-10-14 22:08:37 -0400 (Thu, 14 Oct 2021) EllapsedTime: 75.8 seconds RetCode: 0 Status: OK CheckDir: parglms.Rcheck Warnings: 0