Package: panelcn.mops Version: 1.14.0 Command: C:\Users\biocbuild\bbs-3.13-bioc\R\bin\R.exe CMD check --force-multiarch --install=check:panelcn.mops.install-out.txt --library=C:\Users\biocbuild\bbs-3.13-bioc\R\library --no-vignettes --timings panelcn.mops_1.14.0.tar.gz StartedAt: 2021-10-15 03:06:53 -0400 (Fri, 15 Oct 2021) EndedAt: 2021-10-15 03:11:28 -0400 (Fri, 15 Oct 2021) EllapsedTime: 275.0 seconds RetCode: 0 Status: OK CheckDir: panelcn.mops.Rcheck Warnings: 0