Package: panelcn.mops Version: 1.14.0 Command: rm -rf panelcn.mops.buildbin-libdir && mkdir panelcn.mops.buildbin-libdir && C:\Users\biocbuild\bbs-3.13-bioc\R\bin\R.exe CMD INSTALL --merge-multiarch --build --library=panelcn.mops.buildbin-libdir panelcn.mops_1.14.0.tar.gz StartedAt: 2021-10-15 10:51:53 -0400 (Fri, 15 Oct 2021) EndedAt: 2021-10-15 10:53:01 -0400 (Fri, 15 Oct 2021) EllapsedTime: 68.6 seconds RetCode: 0 Status: OK PackageFile: panelcn.mops_1.14.0.zip PackageFileSize: 447.6 KiB