git_url: https://git.bioconductor.org/packages/panelcn.mops git_branch: RELEASE_3_13 git_last_commit: 88ac1dc git_last_commit_date: 2021-05-19 12:30:31 -0400 (Wed, 19 May 2021) Package: panelcn.mops Version: 1.14.0 Maintainer: Gundula Povysil MaintainerEmail: povysil at bioinf.jku.at