Package: pandaR Version: 1.24.0 Command: /home/biocbuild/bbs-3.13-bioc/R/bin/R CMD build --keep-empty-dirs --no-resave-data pandaR StartedAt: 2021-10-14 07:55:20 -0400 (Thu, 14 Oct 2021) EndedAt: 2021-10-14 07:56:01 -0400 (Thu, 14 Oct 2021) EllapsedTime: 40.4 seconds RetCode: 0 Status: OK PackageFile: pandaR_1.24.0.tar.gz PackageFileSize: 8.675 MiB