Package: pageRank Version: 1.2.0 Command: chmod a+r pageRank -R && C:\Users\biocbuild\bbs-3.13-bioc\R\bin\R.exe CMD build --keep-empty-dirs --no-resave-data pageRank StartedAt: 2021-10-14 16:33:08 -0400 (Thu, 14 Oct 2021) EndedAt: 2021-10-14 16:35:43 -0400 (Thu, 14 Oct 2021) EllapsedTime: 154.6 seconds RetCode: 0 Status: OK PackageFile: pageRank_1.2.0.tar.gz PackageFileSize: 140.6 KiB