Package: pageRank Version: 1.2.0 Command: rm -rf pageRank.buildbin-libdir && mkdir pageRank.buildbin-libdir && C:\Users\biocbuild\bbs-3.13-bioc\R\bin\R.exe CMD INSTALL --merge-multiarch --build --library=pageRank.buildbin-libdir pageRank_1.2.0.tar.gz StartedAt: 2021-10-15 10:51:20 -0400 (Fri, 15 Oct 2021) EndedAt: 2021-10-15 10:53:25 -0400 (Fri, 15 Oct 2021) EllapsedTime: 125.7 seconds RetCode: 0 Status: OK PackageFile: pageRank_1.2.0.zip PackageFileSize: 219.2 KiB