Package: padma Version: 1.2.0 Command: C:\cygwin\bin\curl.exe -O http://155.52.207.165/BBS/3.13/bioc/src/contrib/padma_1.2.0.tar.gz && rm -rf padma.buildbin-libdir && mkdir padma.buildbin-libdir && C:\Users\biocbuild\bbs-3.13-bioc\R\bin\R.exe CMD INSTALL --merge-multiarch --build --library=padma.buildbin-libdir padma_1.2.0.tar.gz && C:\Users\biocbuild\bbs-3.13-bioc\R\bin\R.exe CMD INSTALL padma_1.2.0.zip && rm padma_1.2.0.tar.gz padma_1.2.0.zip StartedAt: 2021-10-14 09:51:09 -0400 (Thu, 14 Oct 2021) EndedAt: 2021-10-14 09:52:03 -0400 (Thu, 14 Oct 2021) EllapsedTime: 53.8 seconds RetCode: 0 Status: OK