git_url: https://git.bioconductor.org/packages/padma git_branch: RELEASE_3_13 git_last_commit: 7bac95f git_last_commit_date: 2021-05-19 12:53:43 -0400 (Wed, 19 May 2021) Package: padma Version: 1.2.0 Maintainer: Andrea Rau MaintainerEmail: andrea.rau at inrae.fr