Package: pRoloc Version: 1.32.0 Command: chmod a+r pRoloc -R && C:\Users\biocbuild\bbs-3.13-bioc\R\bin\R.exe CMD build --keep-empty-dirs --no-resave-data pRoloc StartedAt: 2021-10-14 17:12:43 -0400 (Thu, 14 Oct 2021) EndedAt: 2021-10-14 17:19:40 -0400 (Thu, 14 Oct 2021) EllapsedTime: 417.1 seconds RetCode: 0 Status: OK PackageFile: pRoloc_1.32.0.tar.gz PackageFileSize: 6.05 MiB