Package: openCyto Version: 2.4.0 Command: chmod a+r openCyto -R && C:\Users\biocbuild\bbs-3.13-bioc\R\bin\R.exe CMD build --keep-empty-dirs --no-resave-data openCyto StartedAt: 2021-10-14 16:16:23 -0400 (Thu, 14 Oct 2021) EndedAt: 2021-10-14 16:33:12 -0400 (Thu, 14 Oct 2021) EllapsedTime: 1008.8 seconds RetCode: 0 Status: OK PackageFile: openCyto_2.4.0.tar.gz PackageFileSize: 1.036 MiB