git_url: https://git.bioconductor.org/packages/openCyto git_branch: RELEASE_3_13 git_last_commit: 458a40d git_last_commit_date: 2021-05-19 12:01:23 -0400 (Wed, 19 May 2021) Package: openCyto Version: 2.4.0 Maintainer: Mike Jiang ,Jake Wagner MaintainerEmail: jpwagner at fhcrc.org