Package: onlineFDR Version: 2.0.0 Command: /Library/Frameworks/R.framework/Versions/Current/Resources/bin/R CMD build --keep-empty-dirs --no-resave-data onlineFDR StartedAt: 2021-10-14 13:39:23 -0400 (Thu, 14 Oct 2021) EndedAt: 2021-10-14 13:40:41 -0400 (Thu, 14 Oct 2021) EllapsedTime: 78.5 seconds RetCode: 0 Status: OK PackageFile: onlineFDR_2.0.0.tar.gz PackageFileSize: 2.028 MiB