git_url: https://git.bioconductor.org/packages/oncomix git_branch: RELEASE_3_13 git_last_commit: 4c21cd9 git_last_commit_date: 2021-05-19 12:31:39 -0400 (Wed, 19 May 2021) Package: oncomix Version: 1.14.0 Maintainer: Daniel Pique MaintainerEmail: daniel.pique at med.einstein.yu.edu