Package: omicplotR Version: 1.12.0 Command: /Library/Frameworks/R.framework/Versions/Current/Resources/bin/R CMD build --keep-empty-dirs --no-resave-data omicplotR StartedAt: 2021-10-14 13:37:55 -0400 (Thu, 14 Oct 2021) EndedAt: 2021-10-14 13:38:28 -0400 (Thu, 14 Oct 2021) EllapsedTime: 32.9 seconds RetCode: 0 Status: OK PackageFile: omicplotR_1.12.0.tar.gz PackageFileSize: 1.624 MiB