git_url: https://git.bioconductor.org/packages/omicplotR git_branch: RELEASE_3_13 git_last_commit: b2013f0 git_last_commit_date: 2021-05-19 12:33:04 -0400 (Wed, 19 May 2021) Package: omicplotR Version: 1.12.0 Maintainer: Daniel Giguere MaintainerEmail: dgiguer at uwo.ca