Package: omicade4 Version: 1.32.0 Command: C:\Users\biocbuild\bbs-3.13-bioc\R\bin\R.exe CMD check --force-multiarch --install=check:omicade4.install-out.txt --library=C:\Users\biocbuild\bbs-3.13-bioc\R\library --no-vignettes --timings omicade4_1.32.0.tar.gz StartedAt: 2021-10-15 02:52:07 -0400 (Fri, 15 Oct 2021) EndedAt: 2021-10-15 02:55:13 -0400 (Fri, 15 Oct 2021) EllapsedTime: 185.7 seconds RetCode: 0 Status: OK CheckDir: omicade4.Rcheck Warnings: 0