Package: omicade4 Version: 1.32.0 Command: /Library/Frameworks/R.framework/Versions/Current/Resources/bin/R CMD check --install=check:omicade4.install-out.txt --library=/Library/Frameworks/R.framework/Versions/Current/Resources/library --no-vignettes --timings omicade4_1.32.0.tar.gz StartedAt: 2021-10-14 21:51:24 -0400 (Thu, 14 Oct 2021) EndedAt: 2021-10-14 21:54:21 -0400 (Thu, 14 Oct 2021) EllapsedTime: 176.8 seconds RetCode: 0 Status: OK CheckDir: omicade4.Rcheck Warnings: 0