Package: oligo Version: 1.56.0 Command: /home/biocbuild/bbs-3.13-bioc/R/bin/R CMD check --install=check:oligo.install-out.txt --library=/home/biocbuild/bbs-3.13-bioc/R/library --no-vignettes --timings oligo_1.56.0.tar.gz StartedAt: 2021-10-14 10:50:58 -0400 (Thu, 14 Oct 2021) EndedAt: 2021-10-14 10:55:44 -0400 (Thu, 14 Oct 2021) EllapsedTime: 286.2 seconds RetCode: 0 Status: WARNINGS CheckDir: oligo.Rcheck Warnings: 5