git_url: https://git.bioconductor.org/packages/oligo git_branch: RELEASE_3_13 git_last_commit: b3b6d7e git_last_commit_date: 2021-05-19 11:36:00 -0400 (Wed, 19 May 2021) Package: oligo Version: 1.56.0 Maintainer: Benilton Carvalho MaintainerEmail: benilton at unicamp.br