Package: nucleoSim Version: 1.20.0 Command: C:\Users\biocbuild\bbs-3.13-bioc\R\bin\R.exe CMD check --force-multiarch --install=check:nucleoSim.install-out.txt --library=C:\Users\biocbuild\bbs-3.13-bioc\R\library --no-vignettes --timings nucleoSim_1.20.0.tar.gz StartedAt: 2021-10-15 02:49:02 -0400 (Fri, 15 Oct 2021) EndedAt: 2021-10-15 02:50:25 -0400 (Fri, 15 Oct 2021) EllapsedTime: 82.8 seconds RetCode: 0 Status: OK CheckDir: nucleoSim.Rcheck Warnings: 0