Package: nucleoSim Version: 1.20.0 Command: chmod a+r nucleoSim -R && C:\Users\biocbuild\bbs-3.13-bioc\R\bin\R.exe CMD build --keep-empty-dirs --no-resave-data nucleoSim StartedAt: 2021-10-14 16:11:43 -0400 (Thu, 14 Oct 2021) EndedAt: 2021-10-14 16:12:14 -0400 (Thu, 14 Oct 2021) EllapsedTime: 30.7 seconds RetCode: 0 Status: OK PackageFile: nucleoSim_1.20.0.tar.gz PackageFileSize: 293 KiB