Package: nucleoSim Version: 1.20.0 Command: /Library/Frameworks/R.framework/Versions/Current/Resources/bin/R CMD build --keep-empty-dirs --no-resave-data nucleoSim StartedAt: 2021-10-14 13:36:16 -0400 (Thu, 14 Oct 2021) EndedAt: 2021-10-14 13:36:34 -0400 (Thu, 14 Oct 2021) EllapsedTime: 18.3 seconds RetCode: 0 Status: OK PackageFile: nucleoSim_1.20.0.tar.gz PackageFileSize: 425.6 KiB