Package: nucleoSim Version: 1.20.0 Command: rm -rf nucleoSim.buildbin-libdir && mkdir nucleoSim.buildbin-libdir && /Users/biocbuild/BBS/utils/build-universal.sh nucleoSim_1.20.0.tar.gz /Library/Frameworks/R.framework/Versions/Current/Resources/bin/R nucleoSim.buildbin-libdir StartedAt: 2021-10-15 03:19:25 -0400 (Fri, 15 Oct 2021) EndedAt: 2021-10-15 03:20:30 -0400 (Fri, 15 Oct 2021) EllapsedTime: 64.5 seconds RetCode: 0 Status: OK PackageFile: nucleoSim_1.20.0.tgz PackageFileSize: 458.8 KiB