git_url: https://git.bioconductor.org/packages/nucleoSim git_branch: RELEASE_3_13 git_last_commit: c1bfc38 git_last_commit_date: 2021-05-19 12:18:33 -0400 (Wed, 19 May 2021) Package: nucleoSim Version: 1.20.0 Maintainer: Astrid Deschenes MaintainerEmail: adeschen at hotmail.com