Package: nuCpos Version: 1.10.0 Command: rm -rf nuCpos.buildbin-libdir && mkdir nuCpos.buildbin-libdir && C:\Users\biocbuild\bbs-3.13-bioc\R\bin\R.exe CMD INSTALL --merge-multiarch --build --library=nuCpos.buildbin-libdir nuCpos_1.10.0.tar.gz StartedAt: 2021-10-15 10:44:38 -0400 (Fri, 15 Oct 2021) EndedAt: 2021-10-15 10:45:53 -0400 (Fri, 15 Oct 2021) EllapsedTime: 74.4 seconds RetCode: 0 Status: OK PackageFile: nuCpos_1.10.0.zip PackageFileSize: 1.562 MiB