Package: nuCpos Version: 1.10.0 Command: /Library/Frameworks/R.framework/Versions/Current/Resources/bin/R CMD INSTALL nuCpos StartedAt: 2021-10-14 08:08:28 -0400 (Thu, 14 Oct 2021) EndedAt: 2021-10-14 08:09:08 -0400 (Thu, 14 Oct 2021) EllapsedTime: 39.5 seconds RetCode: 0 Status: OK