Package: nuCpos Version: 1.10.0 Command: /Library/Frameworks/R.framework/Versions/Current/Resources/bin/R CMD check --install=check:nuCpos.install-out.txt --library=/Library/Frameworks/R.framework/Versions/Current/Resources/library --no-vignettes --timings nuCpos_1.10.0.tar.gz StartedAt: 2021-10-14 21:49:56 -0400 (Thu, 14 Oct 2021) EndedAt: 2021-10-14 21:50:30 -0400 (Thu, 14 Oct 2021) EllapsedTime: 34.8 seconds RetCode: 0 Status: OK CheckDir: nuCpos.Rcheck Warnings: 0