Package: npGSEA Version: 1.28.0 Command: /Library/Frameworks/R.framework/Versions/Current/Resources/bin/R CMD check --install=check:npGSEA.install-out.txt --library=/Library/Frameworks/R.framework/Versions/Current/Resources/library --no-vignettes --timings npGSEA_1.28.0.tar.gz StartedAt: 2021-10-14 21:49:02 -0400 (Thu, 14 Oct 2021) EndedAt: 2021-10-14 21:51:19 -0400 (Thu, 14 Oct 2021) EllapsedTime: 137.3 seconds RetCode: 0 Status: OK CheckDir: npGSEA.Rcheck Warnings: 0