Package: normr Version: 1.18.1 Command: C:\cygwin\bin\curl.exe -O http://155.52.207.165/BBS/3.13/bioc/src/contrib/normr_1.18.1.tar.gz && rm -rf normr.buildbin-libdir && mkdir normr.buildbin-libdir && C:\Users\biocbuild\bbs-3.13-bioc\R\bin\R.exe CMD INSTALL --merge-multiarch --build --library=normr.buildbin-libdir normr_1.18.1.tar.gz && C:\Users\biocbuild\bbs-3.13-bioc\R\bin\R.exe CMD INSTALL normr_1.18.1.zip && rm normr_1.18.1.tar.gz normr_1.18.1.zip StartedAt: 2021-10-14 10:11:28 -0400 (Thu, 14 Oct 2021) EndedAt: 2021-10-14 10:13:14 -0400 (Thu, 14 Oct 2021) EllapsedTime: 105.9 seconds RetCode: 0 Status: OK