Package: normr Version: 1.18.1 Command: rm -rf normr.buildbin-libdir && mkdir normr.buildbin-libdir && C:\Users\biocbuild\bbs-3.13-bioc\R\bin\R.exe CMD INSTALL --merge-multiarch --build --library=normr.buildbin-libdir normr_1.18.1.tar.gz StartedAt: 2021-10-15 10:43:49 -0400 (Fri, 15 Oct 2021) EndedAt: 2021-10-15 10:45:04 -0400 (Fri, 15 Oct 2021) EllapsedTime: 74.7 seconds RetCode: 0 Status: OK PackageFile: normr_1.18.1.zip PackageFileSize: 4.151 MiB