git_url: https://git.bioconductor.org/packages/normr git_branch: RELEASE_3_13 git_last_commit: f1d3f26 git_last_commit_date: 2021-09-20 10:47:57 -0400 (Mon, 20 Sep 2021) Package: normr Version: 1.18.1 Maintainer: Johannes Helmuth MaintainerEmail: johannes.helmuth at laborberlin.com