Package: nondetects Version: 2.22.0 Command: chmod a+r nondetects -R && C:\Users\biocbuild\bbs-3.13-bioc\R\bin\R.exe CMD build --keep-empty-dirs --no-resave-data nondetects StartedAt: 2021-10-14 16:09:53 -0400 (Thu, 14 Oct 2021) EndedAt: 2021-10-14 16:13:12 -0400 (Thu, 14 Oct 2021) EllapsedTime: 199.1 seconds RetCode: 0 Status: OK PackageFile: nondetects_2.22.0.tar.gz PackageFileSize: 116.7 KiB