Package: nondetects Version: 2.22.0 Command: /Library/Frameworks/R.framework/Versions/Current/Resources/bin/R CMD build --keep-empty-dirs --no-resave-data nondetects StartedAt: 2021-10-14 13:34:48 -0400 (Thu, 14 Oct 2021) EndedAt: 2021-10-14 13:38:34 -0400 (Thu, 14 Oct 2021) EllapsedTime: 225.5 seconds RetCode: 0 Status: OK PackageFile: nondetects_2.22.0.tar.gz PackageFileSize: 121.3 KiB