git_url: https://git.bioconductor.org/packages/nondetects git_branch: RELEASE_3_13 git_last_commit: c5d66a7 git_last_commit_date: 2021-05-19 12:03:55 -0400 (Wed, 19 May 2021) Package: nondetects Version: 2.22.0 Maintainer: Valeriia Sherina MaintainerEmail: valery.sherina at gmail.com