Package: netresponse Version: 1.52.0 Command: /home/biocbuild/bbs-3.13-bioc/R/bin/R CMD INSTALL netresponse StartedAt: 2021-10-14 06:11:57 -0400 (Thu, 14 Oct 2021) EndedAt: 2021-10-14 06:12:08 -0400 (Thu, 14 Oct 2021) EllapsedTime: 11.7 seconds RetCode: 0 Status: OK