Package: netresponse Version: 1.52.0 Command: /Library/Frameworks/R.framework/Versions/Current/Resources/bin/R CMD build --keep-empty-dirs --no-resave-data netresponse StartedAt: 2021-10-14 13:33:50 -0400 (Thu, 14 Oct 2021) EndedAt: 2021-10-14 13:34:21 -0400 (Thu, 14 Oct 2021) EllapsedTime: 31.3 seconds RetCode: 0 Status: OK PackageFile: netresponse_1.52.0.tar.gz PackageFileSize: 1.156 MiB