Package: netboxr Version: 1.4.0 Command: chmod a+r netboxr -R && C:\Users\biocbuild\bbs-3.13-bioc\R\bin\R.exe CMD build --keep-empty-dirs --no-resave-data netboxr StartedAt: 2021-10-14 16:07:34 -0400 (Thu, 14 Oct 2021) EndedAt: 2021-10-14 16:09:45 -0400 (Thu, 14 Oct 2021) EllapsedTime: 131.1 seconds RetCode: 0 Status: OK PackageFile: netboxr_1.4.0.tar.gz PackageFileSize: 1.404 MiB