Package: netboost Version: 2.0.0 Command: /Library/Frameworks/R.framework/Versions/Current/Resources/bin/R CMD build --keep-empty-dirs --no-resave-data netboost StartedAt: 2021-10-14 13:32:00 -0400 (Thu, 14 Oct 2021) EndedAt: 2021-10-14 13:33:39 -0400 (Thu, 14 Oct 2021) EllapsedTime: 98.8 seconds RetCode: 0 Status: OK PackageFile: netboost_2.0.0.tar.gz PackageFileSize: 1.073 MiB