Package: netSmooth Version: 1.12.0 Command: /Library/Frameworks/R.framework/Versions/Current/Resources/bin/R CMD INSTALL netSmooth StartedAt: 2021-10-14 10:24:30 -0400 (Thu, 14 Oct 2021) EndedAt: 2021-10-14 10:25:23 -0400 (Thu, 14 Oct 2021) EllapsedTime: 53.1 seconds RetCode: 0 Status: OK