Package: netDx Version: 1.4.3 Command: /Library/Frameworks/R.framework/Versions/Current/Resources/bin/R CMD INSTALL netDx StartedAt: 2021-10-14 10:26:42 -0400 (Thu, 14 Oct 2021) EndedAt: 2021-10-14 10:27:38 -0400 (Thu, 14 Oct 2021) EllapsedTime: 55.7 seconds RetCode: 0 Status: OK