Package: netDx Version: 1.4.3 Command: /Library/Frameworks/R.framework/Versions/Current/Resources/bin/R CMD check --install=check:netDx.install-out.txt --library=/Library/Frameworks/R.framework/Versions/Current/Resources/library --no-vignettes --timings netDx_1.4.3.tar.gz StartedAt: 2021-10-14 21:44:09 -0400 (Thu, 14 Oct 2021) EndedAt: 2021-10-14 22:00:45 -0400 (Thu, 14 Oct 2021) EllapsedTime: 996.1 seconds RetCode: 0 Status: WARNINGS CheckDir: netDx.Rcheck Warnings: 3