Package: netDx Version: 1.4.3 Command: rm -rf netDx.buildbin-libdir && mkdir netDx.buildbin-libdir && /Users/biocbuild/BBS/utils/build-universal.sh netDx_1.4.3.tar.gz /Library/Frameworks/R.framework/Versions/Current/Resources/bin/R netDx.buildbin-libdir StartedAt: 2021-10-15 03:17:33 -0400 (Fri, 15 Oct 2021) EndedAt: 2021-10-15 03:19:30 -0400 (Fri, 15 Oct 2021) EllapsedTime: 117.5 seconds RetCode: 0 Status: OK PackageFile: netDx_1.4.3.tgz PackageFileSize: 3.346 MiB