Package: ndexr Version: 1.14.1 Command: rm -rf ndexr.buildbin-libdir && mkdir ndexr.buildbin-libdir && C:\Users\biocbuild\bbs-3.13-bioc\R\bin\R.exe CMD INSTALL --merge-multiarch --build --library=ndexr.buildbin-libdir ndexr_1.14.1.tar.gz StartedAt: 2021-10-15 10:40:36 -0400 (Fri, 15 Oct 2021) EndedAt: 2021-10-15 10:41:34 -0400 (Fri, 15 Oct 2021) EllapsedTime: 57.7 seconds RetCode: 0 Status: OK PackageFile: ndexr_1.14.1.zip PackageFileSize: 395 KiB