Package: ncdfFlow Version: 2.38.0 Command: chmod a+r ncdfFlow -R && C:\Users\biocbuild\bbs-3.13-bioc\R\bin\R.exe CMD build --keep-empty-dirs --no-resave-data ncdfFlow StartedAt: 2021-10-14 16:06:01 -0400 (Thu, 14 Oct 2021) EndedAt: 2021-10-14 16:07:26 -0400 (Thu, 14 Oct 2021) EllapsedTime: 85.4 seconds RetCode: 0 Status: OK PackageFile: ncdfFlow_2.38.0.tar.gz PackageFileSize: 173 KiB