Package: nanotatoR Version: 1.8.0 Command: /home/biocbuild/bbs-3.13-bioc/R/bin/R CMD INSTALL nanotatoR StartedAt: 2021-10-14 06:22:55 -0400 (Thu, 14 Oct 2021) EndedAt: 2021-10-14 06:23:27 -0400 (Thu, 14 Oct 2021) EllapsedTime: 32.0 seconds RetCode: 0 Status: OK