Package: mzR Version: 2.26.1 Command: /home/biocbuild/bbs-3.13-bioc/R/bin/R CMD INSTALL mzR StartedAt: 2021-10-14 06:07:15 -0400 (Thu, 14 Oct 2021) EndedAt: 2021-10-14 06:18:11 -0400 (Thu, 14 Oct 2021) EllapsedTime: 655.9 seconds RetCode: 0 Status: OK