Package: mzR Version: 2.26.1 Command: /Library/Frameworks/R.framework/Versions/Current/Resources/bin/R CMD INSTALL mzR StartedAt: 2021-10-14 08:26:35 -0400 (Thu, 14 Oct 2021) EndedAt: 2021-10-14 08:37:04 -0400 (Thu, 14 Oct 2021) EllapsedTime: 629.2 seconds RetCode: 0 Status: OK