Package: mzR Version: 2.26.1 Command: rm -rf mzR.buildbin-libdir && mkdir mzR.buildbin-libdir && /Users/biocbuild/BBS/utils/build-universal.sh mzR_2.26.1.tar.gz /Library/Frameworks/R.framework/Versions/Current/Resources/bin/R mzR.buildbin-libdir StartedAt: 2021-10-15 03:15:52 -0400 (Fri, 15 Oct 2021) EndedAt: 2021-10-15 03:27:26 -0400 (Fri, 15 Oct 2021) EllapsedTime: 693.6 seconds RetCode: 0 Status: OK PackageFile: mzR_2.26.1.tgz PackageFileSize: 4.171 MiB